BEGIN:VCALENDAR
VERSION:2.0
PRODID:Imitheme.com 
BEGIN:VEVENT
UID:20260419T0833061692530773
DTSTAMP;TZID=UTC:2026-04-19 08:33:06
DTSTART;TZID=America/Los_Angeles:20260419T083306
DTEND;TZID=America/Los_Angeles:20260419T083306
SUMMARY:Taproom Tailgate - Colts v Patriots
LOCATION:
DESCRIPTION:
URL:http://tarnishedhollow.com/eventer/taproom-tailgate-colts-v-patriots/
END:VEVENT
END:VCALENDAR
