BEGIN:VCALENDAR
VERSION:2.0
PRODID:Imitheme.com 
BEGIN:VEVENT
UID:20260419T1135031627994060
DTSTAMP;TZID=UTC:2026-04-19 11:35:03
DTSTART;TZID=America/Los_Angeles:20260419T113503
DTEND;TZID=America/Los_Angeles:20260419T113503
SUMMARY:Beer Garden Igloo Launch
LOCATION:
DESCRIPTION:
URL:http://tarnishedhollow.com/eventer/beer-garden-igloo-launch/
END:VEVENT
END:VCALENDAR
