BEGIN:VCALENDAR
VERSION:2.0
PRODID:Imitheme.com 
BEGIN:VEVENT
UID:20260419T141851372423579
DTSTAMP;TZID=UTC:2026-04-19 14:18:51
DTSTART;TZID=America/Los_Angeles:20260419T141851
DTEND;TZID=America/Los_Angeles:20260419T141851
SUMMARY:IU Football vs. Ohio State
LOCATION:
DESCRIPTION:
URL:http://tarnishedhollow.com/eventer/iu-football-vs-ohio-state/
END:VEVENT
END:VCALENDAR
