BEGIN:VCALENDAR
VERSION:2.0
PRODID:Imitheme.com 
BEGIN:VEVENT
UID:20260419T1244541256175606
DTSTAMP;TZID=UTC:2026-04-19 12:44:54
DTSTART;TZID=America/Los_Angeles:20260419T124454
DTEND;TZID=America/Los_Angeles:20260419T124454
SUMMARY:Gobble Wobble Wednesday
LOCATION:
DESCRIPTION:Come hang at the taproom for those night before Thanksgiving craft beer shenanigans! We will plan on keeping the party rockin\' until 9pm, but if the vibes are good and people are still enjoying themselves, we\'ll extend them as necessary.
URL:http://tarnishedhollow.com/eventer/gobble-wobble-wednesday/
END:VEVENT
END:VCALENDAR
