BEGIN:VCALENDAR
VERSION:2.0
PRODID:Imitheme.com 
BEGIN:VEVENT
UID:20260419T16213035663079
DTSTAMP;TZID=UTC:2026-04-19 16:21:30
DTSTART;TZID=America/Los_Angeles:20260419T162130
DTEND;TZID=America/Los_Angeles:20260419T162130
SUMMARY:First Anniversary
LOCATION:
DESCRIPTION:
URL:http://tarnishedhollow.com/eventer/first-anniversary/
END:VEVENT
END:VCALENDAR
